BEGIN:VCALENDAR
VERSION:2.0
PRODID:-//ChamberMaster//Event Calendar 2.0//EN
METHOD:PUBLISH
X-PUBLISHED-TTL:P3D
REFRESH-INTERVAL:P3D
CALSCALE:GREGORIAN
BEGIN:VEVENT
DTSTART:20210616T110000Z
DTEND:20210616T230000Z
X-MICROSOFT-CDO-ALLDAYEVENT:FALSE
SUMMARY:Leadership Plano Application Fee 2021
DESCRIPTION:Leadership Plano 2021 Application Fee\n\nTo pay the $35 application fee please click the Register Now button
X-ALT-DESC;FMTTYPE=text/html:Leadership Plano 2021 Application Fee<br />\nTo pay the $35 application fee please click the Register Now button
LOCATION:
UID:e.854.21040
SEQUENCE:3
DTSTAMP:20260425T151759Z
URL:http://plano.chambermaster.com/events/details/leadership-plano-application-fee-2021-21040
END:VEVENT

END:VCALENDAR
