BEGIN:VCALENDAR
VERSION:2.0
PRODID:-//ChamberMaster//Event Calendar 2.0//EN
METHOD:PUBLISH
X-PUBLISHED-TTL:P3D
REFRESH-INTERVAL:P3D
CALSCALE:GREGORIAN
BEGIN:VEVENT
DTSTART:20090618T050000Z
DTEND:20090618T050000Z
X-MICROSOFT-CDO-ALLDAYEVENT:FALSE
SUMMARY:2009 Title Sponsor
DESCRIPTION:
X-ALT-DESC;FMTTYPE=text/html:
LOCATION:
UID:e.854.162
SEQUENCE:3
DTSTAMP:20260419T205354Z
URL:http://plano.chambermaster.com/events/details/2009-title-sponsor-06-18-2009-162
END:VEVENT

END:VCALENDAR
